BEGIN:VCALENDAR
VERSION:2.0
PRODID:-//Eventin//Event Calendar//EN
CALSCALE:GREGORIAN
METHOD:PUBLISH
BEGIN:VEVENT
UID:4201a08f0c5a8c7cdc691c55569ae57a@deborahfinocchiaro.com
SUMMARY:oficina “Esculpindo a Palavra"
DESCRIPTION:Oficina ministrada por Deborah Finocchiaro e Lilian Rocha\, que
  oferece exercícios práticos de expressão e a experiência da transcria
 ção de linguagens: escrever\, cantar a palavra\, dizer a música\, transf
 ormar o movimento em som e o som em ato. A atividade proporciona um espaço
  de confiança onde o medo da exposição dá lugar à manifestação criat
 iva e pretende contribuir para que os participantes percebam\, ampliem e ap
 rimorem suas inúmeras capacidades expressivas e consequentemente vislumbre
 m novas perspectivas para sua vida: com mais confiança\, atitude\, entusia
 smo\, determinação e aceitação consigo e com os outros. 
LOCATION:ALF - Academia Literária Feminina do RS Rua Sarmento Leite\, 933 
 - Cidade Baixa\, Porto Alegre/RS
DTSTAMP:20260423T151857Z
DTSTART:20260509T123000Z
DTEND:20260509T153000Z
END:VEVENT
END:VCALENDAR
