BEGIN:VCALENDAR
VERSION:2.0
PRODID:-//Eventin//Event Calendar//EN
CALSCALE:GREGORIAN
METHOD:PUBLISH
BEGIN:VEVENT
UID:8ead18f46caa85c088d6aec612ef4e18@deborahfinocchiaro.com
SUMMARY:“Podres de Ricos” com Deborah Finocchiaro e Fernando Kike Barbo
 sa
DESCRIPTION:Leitura Dramática seguida de bate-papo com Antonio David Catta
 ni. SINOPSE: “Podre de Ricos” aborda a questão da riqueza extrema\, pr
 opondo uma reflexão sobre a realidade contemporânea\, uma era marcada pel
 o aprofundamento das desigualdades\, pela intensificação da exploração 
 do trabalho\, pela devastação ecológica\, pelas guerras e crises contín
 uas. De forma irônica e bem humorada\, o texto propõe uma reflexão sobre
  o modelo de sociedade que estamos vivendo e aborda questões urgentes da a
 tualidade e da realidade do nosso país. Transitando entre o ficcional e o 
 documental\, o dramático e o épico\, a dramaturgia se estrutura como uma 
 conferência sobre o tema da extrema riqueza e suas mazelas. Ao longo da ex
 planação os atores se desdobram em personagens de distintas realidades e 
 condições sociais.
LOCATION:ADUFRGS Rua Barão do Amazonas\, 1581 - Jd. Botânico\, Porto Aleg
 re/RS
DTSTAMP:20260423T151954Z
DTSTART:20260520T170000Z
DTEND:20260520T200000Z
END:VEVENT
END:VCALENDAR
