BEGIN:VCALENDAR
VERSION:2.0
PRODID:-//Eventin//Event Calendar//EN
CALSCALE:GREGORIAN
METHOD:PUBLISH
BEGIN:VEVENT
UID:156d1c0f4f8149a03e7d2f252268a4fc@deborahfinocchiaro.com
SUMMARY:Confessionário - Relatos de Casa
DESCRIPTION:Uma peça sobre violência doméstica e de gênero com Andréa 
 Cavalheiro\, Angelo Primon e Deborah Finocchiaro. CONFESSIONÁRIO – RELAT
 OS DE CASA entrelaça depoimentos reais\, teatro\, música ao vivo e imagen
 s poéticas para dar voz às múltiplas experiências de mulheres que enfre
 ntam a violência doméstica. Andréa Cavalheiro\, Deborah Finocchiaro e An
 gelo Primon conduzem o público por um percurso sensível e contundente\, n
 o qual relatos de violência contra mulheres se transformam em composição
  cênica. As histórias ganham vida tanto pela atuação dos intérpretes q
 uanto pelos fragmentos em vídeo narrados por diferentes atrizes\, enquanto
  as imagens de Aline Daka ampliam o impacto emocional e poético da obra. C
 om linguagem híbrida e acessível\, a peça celebra a força e a pluralida
 de da mulher\, criando um espaço de escuta\, acolhimento e reflexão colet
 iva sobre as estruturas patriarcais que ainda perpetuam a violência em nos
 sa sociedade. \nIngressos disponíveis a partir de 4 de maio:\nVenda Onlin
 e: site www.sesc-rs.com.br/espetaculosculturais \nVenda Presencial: Na Uni
 dade Sesc mais próxima de você. 
LOCATION:Teatro Bruno Kiefer - CCMQ Rua dos Andradas\, 736 - Centro Histór
 ico\, Porto Alegre/RS
DTSTAMP:20260423T151858Z
DTSTART:20260527T230000Z
DTEND:20260527T234000Z
END:VEVENT
END:VCALENDAR
