BEGIN:VCALENDAR
VERSION:2.0
PRODID:-//Eventin//Event Calendar//EN
CALSCALE:GREGORIAN
METHOD:PUBLISH
BEGIN:VEVENT
UID:ed08e9763fcbbb89c9bf98bc069d2069@deborahfinocchiaro.com
SUMMARY:Experimentos Sonoros - "Do som ao coração” com Bel Medula e Deb
 orah Finocchiaro
DESCRIPTION:ESTREIA "Experimentos Sonoros - do som ao coração”\, com Be
 l Medula e Deborah Finocchiaro. Seguido de bate-papo. contribuição espont
 ânea. 
LOCATION:Casa Mel Rua José do Patrocínio\, 698 - Cidade Baixa\, Porto Ale
 gre/RS
DTSTAMP:20260423T151857Z
DTSTART:20260613T210000Z
DTEND:20260613T223000Z
END:VEVENT
END:VCALENDAR
