BEGIN:VCALENDAR
VERSION:2.0
PRODID:-//Eventin//Event Calendar//EN
CALSCALE:GREGORIAN
METHOD:PUBLISH
BEGIN:VEVENT
UID:342da7c9207c1a268c9a94712363680c@deborahfinocchiaro.com
SUMMARY:“Experimentos Sonoros - do som ao coração” com Bel Medula e D
 eborah Finocchiaro
DESCRIPTION:“Experimentos Sonoros - do som ao coração” com Bel Medula
  e Deborah Finocchiaro. Contribuição espontânea. 
LOCATION:Centro Cultural da UFRGS  Rua Eng. Luiz Englert\, 333 - Farroupilh
 a\, Porto Alegre/RS
DTSTAMP:20260423T151954Z
DTSTART:20260713T220000Z
DTEND:20260713T230000Z
END:VEVENT
END:VCALENDAR
