BEGIN:VCALENDAR
VERSION:2.0
PRODID:-//Eventin//Event Calendar//EN
CALSCALE:GREGORIAN
METHOD:PUBLISH
BEGIN:VEVENT
UID:6cad182251d8fe26ee2ec370ccc61cd2@deborahfinocchiaro.com
SUMMARY:“Podres de Ricos”  com Deborah Finocchiaro e Fernando Kike Barb
 osa
DESCRIPTION:Leitura Dramática seguida de bate-papo com Antonio David Catta
 ni. “Podre de Ricos” aborda a questão da riqueza extrema\, propondo u
 ma reflexão sobre a realidade contemporânea\, uma era marcada pelo aprofu
 ndamento das desigualdades\, pela intensificação da exploração do traba
 lho\, pela devastação ecológica\, pelas guerras e crises contínuas. De 
 forma irônica e bem humorada\, o texto propõe uma reflexão sobre o model
 o de sociedade que estamos vivendo e aborda questões urgentes da atualidad
 e e da realidade do nosso país. Transitando entre o ficcional e o document
 al\, o dramático e o épico\, a dramaturgia se estrutura como uma conferê
 ncia sobre o tema da extrema riqueza e suas mazelas. Ao longo da explanaç
 ão os atores se desdobram em personagens de distintas realidades e condiç
 ões sociais.\nIngressos pelo site https://www.soumel.org/
LOCATION:Casa Mel Rua José do Patrocínio\, 698 - Cidade Baixa\, Porto Ale
 gre/RS
DTSTAMP:20260423T151954Z
DTSTART:20260704T210000Z
DTEND:20260704T223000Z
END:VEVENT
END:VCALENDAR
