BEGIN:VCALENDAR
VERSION:2.0
PRODID:-//Eventin//Event Calendar//EN
CALSCALE:GREGORIAN
METHOD:PUBLISH
BEGIN:VEVENT
UID:ec651bda7ce50df33fbd9ad832499c56@deborahfinocchiaro.com
SUMMARY:“Sobre Anjos & Grilos - O Universo de Mario Quintana” com Debor
 ah Finocchiaro\, dentro das comemorações dos 120 anos de Mario Quintana
DESCRIPTION:Sobre Anjos & Grilos é um espetáculo lírico\, cômico\, poé
 tico - no qual uma atriz\, numa junção entre a fala\, o gesto\, a poesia\
 , as artes plásticas e a música\, conta\, interpreta e canta textos e poe
 mas de Mario Quintana\, revelando não apenas o Mario confessional e líric
 o dos poemas\, mas sua face pouco conhecida: a das entrevistas e das frases
  agudas e desconcertantes que questionam os valores da sociedade\, da vida 
 e da morte. O espetáculo estreou em Porto Alegre/RS em 2006 e já percorre
 u vários estados brasileiros (RN\, TO\, PI\, AP\, MG\, MA\, SE\, CE\, DF\,
  PB\, PE\, MS\, GO\, RJ\, SP\, PR\, SC\, RS)\, participando de temporadas\,
  projetos e festivais nacionais e internacionais\, conquistando plateias de
  todas as idades e de diferentes classes sociais. Sobre Anjos & Grilos cont
 ribui para quebrar a resistência em relação à poesia\, reafirmando\, as
 sim\, a crença no poder da representação cênica como caminho de questio
 namentos e transformações. DURAÇÃO DO ESPETÁCULO: 60 minutos / CLASSIF
 ICAÇÃO ETÁRIA: livre.\nEntrada gratuita! retirada de senha 1h antes na b
 ilheteria do teatro.
LOCATION:Teatro Bruno Kiefer - CCMQ Rua dos Andradas\, 736 - Centro Histór
 ico\, Porto Alegre/RS
DTSTAMP:20260423T151846Z
DTSTART:20260729T230000Z
DTEND:20260730T000000Z
END:VEVENT
END:VCALENDAR
