BEGIN:VCALENDAR
VERSION:2.0
PRODID:-//Eventin//Event Calendar//EN
CALSCALE:GREGORIAN
METHOD:PUBLISH
BEGIN:VEVENT
UID:43c5ba9ea24277367a6224e02dc5a6f2@deborahfinocchiaro.com
SUMMARY:“Baile das Letrinhas”\, com Deborah Finocchiaro
DESCRIPTION:Baile das Letrinhas\, baseado no livro infantil homônimo de De
 borah Finocchiaro\, propõe uma brincadeira com o alfabeto de forma poétic
 a e lúdica. Elementos simples se transformam sob o olhar do público\, as 
 letras e as palavras bailam revelando seus formatos e sonoridades\, se apro
 ximando do universo das crianças através de cenas interativas\, imagens\,
  música ao vivo\, manipulação de objetos e muito bom humor. A peça esti
 mula e exalta a imaginação\, o prazer de aprender e o autodesenvolvimento
 . Ao valorizar o respeito às diferenças e à autenticidade\, promove a co
 nscientização e a reflexão sobre a diversidade e unicidade de cada indiv
 íduo\, que\, assim como as letrinhas - que só formam palavras por serem d
 iferentes umas das outras - tem seu valor único e intransferível. \nIngr
 essos pelo site https://www.soumel.org/
LOCATION:Casa Mel Rua José do Patrocínio\, 698 - Cidade Baixa\, Porto Ale
 gre/RS
DTSTAMP:20260423T151846Z
DTSTART:20261010T200000Z
DTEND:20261025T210000Z
END:VEVENT
END:VCALENDAR
